BEGIN:VCALENDAR
VERSION:2.0
PRODID:JMS Hockey
X-PUBLISHED-TTL:P1W
BEGIN:VEVENT
UID:69e7d47cbf49b
DTSTART:20101230T023000Z
SEQUENCE:0
TRANSP:OPAQUE
DTEND:20101230T040000Z
URL:http://jmshockey.com/games/1965
LOCATION:Polar Arena
SUMMARY:All level Game at Polar Arena
CLASS:PUBLIC
DTSTAMP:20260421T144812Z
END:VEVENT
END:VCALENDAR