BEGIN:VCALENDAR
VERSION:2.0
PRODID:JMS Hockey
X-PUBLISHED-TTL:P1W
BEGIN:VEVENT
UID:69e7d4e364e99
DTSTART:20101206T040000Z
SEQUENCE:0
TRANSP:OPAQUE
DTEND:20101206T053000Z
URL:http://jmshockey.com/games/1946
LOCATION:Minnehaha Academy
SUMMARY:All level Game at Minnehaha Academy
CLASS:PUBLIC
DTSTAMP:20260421T144955Z
END:VEVENT
END:VCALENDAR