BEGIN:VCALENDAR
VERSION:2.0
PRODID:JMS Hockey
X-PUBLISHED-TTL:P1W
BEGIN:VEVENT
UID:69e7c35aeccf8
DTSTART:20101115T040000Z
SEQUENCE:0
TRANSP:OPAQUE
DTEND:20101115T053000Z
URL:http://jmshockey.com/games/1941
LOCATION:Minnehaha Academy
SUMMARY:All level Game at Minnehaha Academy
CLASS:PUBLIC
DTSTAMP:20260421T133506Z
END:VEVENT
END:VCALENDAR