BEGIN:VCALENDAR
VERSION:2.0
PRODID:JMS Hockey
X-PUBLISHED-TTL:P1W
BEGIN:VEVENT
UID:69e7cb53e367e
DTSTART:20101108T040000Z
SEQUENCE:0
TRANSP:OPAQUE
DTEND:20101108T053000Z
URL:http://jmshockey.com/games/1939
LOCATION:Minnehaha Academy
SUMMARY:All level Game at Minnehaha Academy
CLASS:PUBLIC
DTSTAMP:20260421T140907Z
END:VEVENT
END:VCALENDAR