BEGIN:VCALENDAR
VERSION:2.0
PRODID:JMS Hockey
X-PUBLISHED-TTL:P1W
BEGIN:VEVENT
UID:69e7d4db2bcf1
DTSTART:20101027T030000Z
SEQUENCE:0
TRANSP:OPAQUE
DTEND:20101027T043000Z
URL:http://jmshockey.com/games/1923
LOCATION:Parade Ice Gardens
SUMMARY:Level 3 Game at Parade Ice Gardens
CLASS:PUBLIC
DTSTAMP:20260421T144947Z
END:VEVENT
END:VCALENDAR