BEGIN:VCALENDAR
VERSION:2.0
PRODID:JMS Hockey
X-PUBLISHED-TTL:P1W
BEGIN:VEVENT
UID:69e7c7496665a
DTSTART:20101023T023000Z
SEQUENCE:0
TRANSP:OPAQUE
DTEND:20101023T040000Z
URL:http://jmshockey.com/games/1914
LOCATION:Eden Prairie Comm Ctr
SUMMARY:All level Game at Eden Prairie Comm Ctr
CLASS:PUBLIC
DTSTAMP:20260421T135153Z
END:VEVENT
END:VCALENDAR