BEGIN:VCALENDAR
VERSION:2.0
PRODID:JMS Hockey
X-PUBLISHED-TTL:P1W
BEGIN:VEVENT
UID:69e79a3b1d286
DTSTART:20101028T030000Z
SEQUENCE:0
TRANSP:OPAQUE
DTEND:20101028T043000Z
URL:http://jmshockey.com/games/1911
LOCATION:Inver Grove Heights Community Center
SUMMARY:All level Game at Inver Grove Heights Community Center
CLASS:PUBLIC
DTSTAMP:20260421T103939Z
END:VEVENT
END:VCALENDAR