BEGIN:VCALENDAR
VERSION:2.0
PRODID:JMS Hockey
X-PUBLISHED-TTL:P1W
BEGIN:VEVENT
UID:69e7ccb7f1704
DTSTART:20100922T013000Z
SEQUENCE:0
TRANSP:OPAQUE
DTEND:20100922T030000Z
URL:http://jmshockey.com/games/1899
LOCATION:Doug Woog Arena (Wakota)
SUMMARY:Level 3 Game at Doug Woog Arena (Wakota)
CLASS:PUBLIC
DTSTAMP:20260421T141503Z
END:VEVENT
END:VCALENDAR