BEGIN:VCALENDAR
VERSION:2.0
PRODID:JMS Hockey
X-PUBLISHED-TTL:P1W
BEGIN:VEVENT
UID:69e7b1217a7d8
DTSTART:20100929T031500Z
SEQUENCE:0
TRANSP:OPAQUE
DTEND:20100929T044500Z
URL:http://jmshockey.com/games/1879
LOCATION:Roseville Skating Center
SUMMARY:Level 2 Game at Roseville Skating Center
CLASS:PUBLIC
DTSTAMP:20260421T121721Z
END:VEVENT
END:VCALENDAR