BEGIN:VCALENDAR
VERSION:2.0
PRODID:JMS Hockey
X-PUBLISHED-TTL:P1W
BEGIN:VEVENT
UID:69e7a7897fc52
DTSTART:20100925T024500Z
SEQUENCE:0
TRANSP:OPAQUE
DTEND:20100925T041500Z
URL:http://jmshockey.com/games/1878
LOCATION:Roseville Skating Center
SUMMARY:Level 2 Game at Roseville Skating Center
CLASS:PUBLIC
DTSTAMP:20260421T113625Z
END:VEVENT
END:VCALENDAR