BEGIN:VCALENDAR
VERSION:2.0
PRODID:JMS Hockey
X-PUBLISHED-TTL:P1W
BEGIN:VEVENT
UID:69e7ad7542ed3
DTSTART:20101030T014500Z
SEQUENCE:0
TRANSP:OPAQUE
DTEND:20101030T031500Z
URL:http://jmshockey.com/games/1876
LOCATION:Richfield Ice Arena
SUMMARY:Level 2 Game at Richfield Ice Arena
CLASS:PUBLIC
DTSTAMP:20260421T120141Z
END:VEVENT
END:VCALENDAR