BEGIN:VCALENDAR
VERSION:2.0
PRODID:JMS Hockey
X-PUBLISHED-TTL:P1W
BEGIN:VEVENT
UID:69e795be0ddd8
DTSTART:20101016T020000Z
SEQUENCE:0
TRANSP:OPAQUE
DTEND:20101016T033000Z
URL:http://jmshockey.com/games/1871
LOCATION:Richfield Ice Arena
SUMMARY:Level 4 Game at Richfield Ice Arena
CLASS:PUBLIC
DTSTAMP:20260421T102030Z
END:VEVENT
END:VCALENDAR