BEGIN:VCALENDAR
VERSION:2.0
PRODID:JMS Hockey
X-PUBLISHED-TTL:P1W
BEGIN:VEVENT
UID:69e7c367db7a9
DTSTART:20101021T031500Z
SEQUENCE:0
TRANSP:OPAQUE
DTEND:20101021T044500Z
URL:http://jmshockey.com/games/1864
LOCATION:Plymouth Ice Center
SUMMARY:All level Game at Plymouth Ice Center
CLASS:PUBLIC
DTSTAMP:20260421T133519Z
END:VEVENT
END:VCALENDAR