BEGIN:VCALENDAR
VERSION:2.0
PRODID:JMS Hockey
X-PUBLISHED-TTL:P1W
BEGIN:VEVENT
UID:69e7c169d2fe9
DTSTART:20101007T021500Z
SEQUENCE:0
TRANSP:OPAQUE
DTEND:20101007T034500Z
URL:http://jmshockey.com/games/1862
LOCATION:Plymouth Ice Center
SUMMARY:All level Game at Plymouth Ice Center
CLASS:PUBLIC
DTSTAMP:20260421T132649Z
END:VEVENT
END:VCALENDAR