BEGIN:VCALENDAR
VERSION:2.0
PRODID:JMS Hockey
X-PUBLISHED-TTL:P1W
BEGIN:VEVENT
UID:69e7bf98d06fe
DTSTART:20100930T021500Z
SEQUENCE:0
TRANSP:OPAQUE
DTEND:20100930T034500Z
URL:http://jmshockey.com/games/1861
LOCATION:Plymouth Ice Center
SUMMARY:All level Game at Plymouth Ice Center
CLASS:PUBLIC
DTSTAMP:20260421T131904Z
END:VEVENT
END:VCALENDAR