BEGIN:VCALENDAR
VERSION:2.0
PRODID:JMS Hockey
X-PUBLISHED-TTL:P1W
BEGIN:VEVENT
UID:69e7c766c9c2a
DTSTART:20101023T030000Z
SEQUENCE:0
TRANSP:OPAQUE
DTEND:20101023T043000Z
URL:http://jmshockey.com/games/1857
LOCATION:Fogerty Icehouse
SUMMARY:All level Game at Fogerty Icehouse
CLASS:PUBLIC
DTSTAMP:20260421T135222Z
END:VEVENT
END:VCALENDAR