BEGIN:VCALENDAR
VERSION:2.0
PRODID:JMS Hockey
X-PUBLISHED-TTL:P1W
BEGIN:VEVENT
UID:69e7d67b3b5f4
DTSTART:20101002T030000Z
SEQUENCE:0
TRANSP:OPAQUE
DTEND:20101002T043000Z
URL:http://jmshockey.com/games/1851
LOCATION:Fogerty Icehouse
SUMMARY:All level Game at Fogerty Icehouse
CLASS:PUBLIC
DTSTAMP:20260421T145643Z
END:VEVENT
END:VCALENDAR