BEGIN:VCALENDAR
VERSION:2.0
PRODID:JMS Hockey
X-PUBLISHED-TTL:P1W
BEGIN:VEVENT
UID:69e7cad994f9c
DTSTART:20101014T023000Z
SEQUENCE:0
TRANSP:OPAQUE
DTEND:20101014T040000Z
URL:http://jmshockey.com/games/1841
LOCATION:Breck Anderson Arena
SUMMARY:Level 5 Game at Breck Anderson Arena
CLASS:PUBLIC
DTSTAMP:20260421T140705Z
END:VEVENT
END:VCALENDAR