BEGIN:VCALENDAR
VERSION:2.0
PRODID:JMS Hockey
X-PUBLISHED-TTL:P1W
BEGIN:VEVENT
UID:69e7c3774bde7
DTSTART:20101030T014500Z
SEQUENCE:0
TRANSP:OPAQUE
DTEND:20101030T031500Z
URL:http://jmshockey.com/games/1835
LOCATION:Bloomington Ice Gardens
SUMMARY:Level 3 Game at Bloomington Ice Gardens
CLASS:PUBLIC
DTSTAMP:20260421T133535Z
END:VEVENT
END:VCALENDAR