BEGIN:VCALENDAR
VERSION:2.0
PRODID:JMS Hockey
X-PUBLISHED-TTL:P1W
BEGIN:VEVENT
UID:69e7a39c50be1
DTSTART:20101005T024500Z
SEQUENCE:0
TRANSP:OPAQUE
DTEND:20101005T041500Z
URL:http://jmshockey.com/games/1824
LOCATION:Bloomington Ice Gardens
SUMMARY:Level 3 Game at Bloomington Ice Gardens
CLASS:PUBLIC
DTSTAMP:20260421T111940Z
END:VEVENT
END:VCALENDAR