BEGIN:VCALENDAR
VERSION:2.0
PRODID:JMS Hockey
X-PUBLISHED-TTL:P1W
BEGIN:VEVENT
UID:69e7e6c1f1ff2
DTSTART:20100928T013000Z
SEQUENCE:0
TRANSP:OPAQUE
DTEND:20100928T030000Z
URL:http://jmshockey.com/games/1820
LOCATION:Bloomington Ice Gardens
SUMMARY:Level 2 Game at Bloomington Ice Gardens
CLASS:PUBLIC
DTSTAMP:20260421T160609Z
END:VEVENT
END:VCALENDAR