BEGIN:VCALENDAR
VERSION:2.0
PRODID:JMS Hockey
X-PUBLISHED-TTL:P1W
BEGIN:VEVENT
UID:69e7c36e45fdc
DTSTART:20101006T021500Z
SEQUENCE:0
TRANSP:OPAQUE
DTEND:20101006T034500Z
URL:http://jmshockey.com/games/1809
LOCATION:Braemar Arena
SUMMARY:Level 2 Game at Braemar Arena
CLASS:PUBLIC
DTSTAMP:20260421T133526Z
END:VEVENT
END:VCALENDAR