BEGIN:VCALENDAR
VERSION:2.0
PRODID:JMS Hockey
X-PUBLISHED-TTL:P1W
BEGIN:VEVENT
UID:69e842c55475b
DTSTART:20101014T024500Z
SEQUENCE:0
TRANSP:OPAQUE
DTEND:20101014T041500Z
URL:http://jmshockey.com/games/1806
LOCATION:Minnetonka Ice Arena
SUMMARY:Level 3 Game at Minnetonka Ice Arena
CLASS:PUBLIC
DTSTAMP:20260421T223845Z
END:VEVENT
END:VCALENDAR