BEGIN:VCALENDAR
VERSION:2.0
PRODID:JMS Hockey
X-PUBLISHED-TTL:P1W
BEGIN:VEVENT
UID:69e7c174be7c3
DTSTART:20101019T020000Z
SEQUENCE:0
TRANSP:OPAQUE
DTEND:20101019T033000Z
URL:http://jmshockey.com/games/1802
LOCATION:New Hope Ice Arena
SUMMARY:Level 3 Game at New Hope Ice Arena
CLASS:PUBLIC
DTSTAMP:20260421T132700Z
END:VEVENT
END:VCALENDAR