BEGIN:VCALENDAR
VERSION:2.0
PRODID:JMS Hockey
X-PUBLISHED-TTL:P1W
BEGIN:VEVENT
UID:69e7cadb50e6a
DTSTART:20101026T020000Z
SEQUENCE:0
TRANSP:OPAQUE
DTEND:20101026T033000Z
URL:http://jmshockey.com/games/1801
LOCATION:New Hope Ice Arena
SUMMARY:Level 3 Game at New Hope Ice Arena
CLASS:PUBLIC
DTSTAMP:20260421T140707Z
END:VEVENT
END:VCALENDAR