BEGIN:VCALENDAR
VERSION:2.0
PRODID:JMS Hockey
X-PUBLISHED-TTL:P1W
BEGIN:VEVENT
UID:69e7a77e3f6a6
DTSTART:20100918T024500Z
SEQUENCE:0
TRANSP:OPAQUE
DTEND:20100918T041500Z
URL:http://jmshockey.com/games/1797
LOCATION:Roseville Skating Center
SUMMARY:Level 2 Game at Roseville Skating Center
CLASS:PUBLIC
DTSTAMP:20260421T113614Z
END:VEVENT
END:VCALENDAR