BEGIN:VCALENDAR
VERSION:2.0
PRODID:JMS Hockey
X-PUBLISHED-TTL:P1W
BEGIN:VEVENT
UID:69e7e773a5c24
DTSTART:20100915T031000Z
SEQUENCE:0
TRANSP:OPAQUE
DTEND:20100915T044000Z
URL:http://jmshockey.com/games/1786
LOCATION:Fogerty Icehouse
SUMMARY:Level 3 Game at Fogerty Icehouse
CLASS:PUBLIC
DTSTAMP:20260421T160907Z
END:VEVENT
END:VCALENDAR