BEGIN:VCALENDAR
VERSION:2.0
PRODID:JMS Hockey
X-PUBLISHED-TTL:P1W
BEGIN:VEVENT
UID:69e7c749491fe
DTSTART:20100911T031500Z
SEQUENCE:0
TRANSP:OPAQUE
DTEND:20100911T044500Z
URL:http://jmshockey.com/games/1778
LOCATION:St Louis Park Rec Center
SUMMARY:Level 3 Game at St Louis Park Rec Center
CLASS:PUBLIC
DTSTAMP:20260421T135153Z
END:VEVENT
END:VCALENDAR