BEGIN:VCALENDAR
VERSION:2.0
PRODID:JMS Hockey
X-PUBLISHED-TTL:P1W
BEGIN:VEVENT
UID:69e7cac70654f
DTSTART:20100926T230000Z
SEQUENCE:0
TRANSP:OPAQUE
DTEND:20100927T000000Z
URL:http://jmshockey.com/games/1776
LOCATION:Xcel Energy Center
SUMMARY:Level 4 Game at Xcel Energy Center
CLASS:PUBLIC
DTSTAMP:20260421T140647Z
END:VEVENT
END:VCALENDAR