BEGIN:VCALENDAR
VERSION:2.0
PRODID:JMS Hockey
X-PUBLISHED-TTL:P1W
BEGIN:VEVENT
UID:69e7adb07eeb5
DTSTART:20100910T023000Z
SEQUENCE:0
TRANSP:OPAQUE
DTEND:20100910T040000Z
URL:http://jmshockey.com/games/1774
LOCATION:Hopkins Pavilion
SUMMARY:All level Game at Hopkins Pavilion
CLASS:PUBLIC
DTSTAMP:20260421T120240Z
END:VEVENT
END:VCALENDAR