BEGIN:VCALENDAR
VERSION:2.0
PRODID:JMS Hockey
X-PUBLISHED-TTL:P1W
BEGIN:VEVENT
UID:69e7d806db538
DTSTART:20100904T004500Z
SEQUENCE:0
TRANSP:OPAQUE
DTEND:20100904T021500Z
URL:http://jmshockey.com/games/1768
LOCATION:Breck Anderson Arena
SUMMARY:All level Game at Breck Anderson Arena
CLASS:PUBLIC
DTSTAMP:20260421T150318Z
END:VEVENT
END:VCALENDAR