BEGIN:VCALENDAR
VERSION:2.0
PRODID:JMS Hockey
X-PUBLISHED-TTL:P1W
BEGIN:VEVENT
UID:69e7c35901d5e
DTSTART:20100818T020000Z
SEQUENCE:0
TRANSP:OPAQUE
DTEND:20100818T033000Z
URL:http://jmshockey.com/games/1735
LOCATION:Roseville Skating Center
SUMMARY:Level 3 Game at Roseville Skating Center
CLASS:PUBLIC
DTSTAMP:20260421T133505Z
END:VEVENT
END:VCALENDAR