BEGIN:VCALENDAR
VERSION:2.0
PRODID:JMS Hockey
X-PUBLISHED-TTL:P1W
BEGIN:VEVENT
UID:69e7cb5360042
DTSTART:20100814T021500Z
SEQUENCE:0
TRANSP:OPAQUE
DTEND:20100814T034500Z
URL:http://jmshockey.com/games/1727
LOCATION:St Louis Park Rec Center
SUMMARY:Level 3 Game at St Louis Park Rec Center
CLASS:PUBLIC
DTSTAMP:20260421T140907Z
END:VEVENT
END:VCALENDAR