BEGIN:VCALENDAR
VERSION:2.0
PRODID:JMS Hockey
X-PUBLISHED-TTL:P1W
BEGIN:VEVENT
UID:69e9e88b1b046
DTSTART:20100812T021500Z
SEQUENCE:0
TRANSP:OPAQUE
DTEND:20100812T034500Z
URL:http://jmshockey.com/games/1724
LOCATION:Bloomington Ice Gardens
SUMMARY:Level 4 Game at Bloomington Ice Gardens
CLASS:PUBLIC
DTSTAMP:20260423T043819Z
END:VEVENT
END:VCALENDAR