BEGIN:VCALENDAR
VERSION:2.0
PRODID:JMS Hockey
X-PUBLISHED-TTL:P1W
BEGIN:VEVENT
UID:69e803e121f56
DTSTART:20100812T004500Z
SEQUENCE:0
TRANSP:OPAQUE
DTEND:20100812T021500Z
URL:http://jmshockey.com/games/1723
LOCATION:Breck Anderson Arena
SUMMARY:Level 5 Game at Breck Anderson Arena
CLASS:PUBLIC
DTSTAMP:20260421T181025Z
END:VEVENT
END:VCALENDAR