BEGIN:VCALENDAR
VERSION:2.0
PRODID:JMS Hockey
X-PUBLISHED-TTL:P1W
BEGIN:VEVENT
UID:69e7e13c2a003
DTSTART:20100806T024500Z
SEQUENCE:0
TRANSP:OPAQUE
DTEND:20100806T041500Z
URL:http://jmshockey.com/games/1711
LOCATION:Richfield Ice Arena
SUMMARY:All level Game at Richfield Ice Arena
CLASS:PUBLIC
DTSTAMP:20260421T154236Z
END:VEVENT
END:VCALENDAR