BEGIN:VCALENDAR
VERSION:2.0
PRODID:JMS Hockey
X-PUBLISHED-TTL:P1W
BEGIN:VEVENT
UID:69e7cac976ba5
DTSTART:20100730T014500Z
SEQUENCE:0
TRANSP:OPAQUE
DTEND:20100730T031500Z
URL:http://jmshockey.com/games/1696
LOCATION:Richfield Ice Arena
SUMMARY:All level Game at Richfield Ice Arena
CLASS:PUBLIC
DTSTAMP:20260421T140649Z
END:VEVENT
END:VCALENDAR