BEGIN:VCALENDAR
VERSION:2.0
PRODID:JMS Hockey
X-PUBLISHED-TTL:P1W
BEGIN:VEVENT
UID:69e7e68bc45e9
DTSTART:20081125T033000Z
SEQUENCE:0
TRANSP:OPAQUE
DTEND:20081125T050000Z
URL:http://jmshockey.com/games/168
LOCATION:Breck Anderson Arena
SUMMARY:Level 3 Game at Breck Anderson Arena
CLASS:PUBLIC
DTSTAMP:20260421T160515Z
END:VEVENT
END:VCALENDAR