BEGIN:VCALENDAR
VERSION:2.0
PRODID:JMS Hockey
X-PUBLISHED-TTL:P1W
BEGIN:VEVENT
UID:69e7e841ca50d
DTSTART:20100717T010000Z
SEQUENCE:0
TRANSP:OPAQUE
DTEND:20100717T023000Z
URL:http://jmshockey.com/games/1667
LOCATION:Roseville Skating Center
SUMMARY:Level 3 Game at Roseville Skating Center
CLASS:PUBLIC
DTSTAMP:20260421T161233Z
END:VEVENT
END:VCALENDAR