BEGIN:VCALENDAR
VERSION:2.0
PRODID:JMS Hockey
X-PUBLISHED-TTL:P1W
BEGIN:VEVENT
UID:69e7c3a55f1b6
DTSTART:20100716T014500Z
SEQUENCE:0
TRANSP:OPAQUE
DTEND:20100716T031500Z
URL:http://jmshockey.com/games/1662
LOCATION:Breck Anderson Arena
SUMMARY:Level 1 Game at Breck Anderson Arena
CLASS:PUBLIC
DTSTAMP:20260421T133621Z
END:VEVENT
END:VCALENDAR