BEGIN:VCALENDAR
VERSION:2.0
PRODID:JMS Hockey
X-PUBLISHED-TTL:P1W
BEGIN:VEVENT
UID:69e9da49537ab
DTSTART:20100708T004500Z
SEQUENCE:0
TRANSP:OPAQUE
DTEND:20100708T021500Z
URL:http://jmshockey.com/games/1644
LOCATION:Breck Anderson Arena
SUMMARY:Level 5 Game at Breck Anderson Arena
CLASS:PUBLIC
DTSTAMP:20260423T033729Z
END:VEVENT
END:VCALENDAR