BEGIN:VCALENDAR
VERSION:2.0
PRODID:JMS Hockey
X-PUBLISHED-TTL:P1W
BEGIN:VEVENT
UID:69e7c17255c89
DTSTART:20100708T010000Z
SEQUENCE:0
TRANSP:OPAQUE
DTEND:20100708T023000Z
URL:http://jmshockey.com/games/1643
LOCATION:Bloomington Ice Gardens
SUMMARY:Level 2 Game at Bloomington Ice Gardens
CLASS:PUBLIC
DTSTAMP:20260421T132658Z
END:VEVENT
END:VCALENDAR