BEGIN:VCALENDAR
VERSION:2.0
PRODID:JMS Hockey
X-PUBLISHED-TTL:P1W
BEGIN:VEVENT
UID:69e7f35c7314f
DTSTART:20260506T020000Z
SEQUENCE:0
TRANSP:OPAQUE
DTEND:20260506T033000Z
URL:http://jmshockey.com/games/16247
LOCATION:Eden Prairie Comm Ctr
SUMMARY:Upper Level Game at Eden Prairie Comm Ctr
CLASS:PUBLIC
DTSTAMP:20260421T165956Z
END:VEVENT
END:VCALENDAR