BEGIN:VCALENDAR
VERSION:2.0
PRODID:JMS Hockey
X-PUBLISHED-TTL:P1W
BEGIN:VEVENT
UID:69e7cd4e9a9f3
DTSTART:20260515T013000Z
SEQUENCE:0
TRANSP:OPAQUE
DTEND:20260515T030000Z
URL:http://jmshockey.com/games/16242
LOCATION:Apple Valley Hayes Park Arena
SUMMARY:Intermediate Game at Apple Valley Hayes Park Arena
CLASS:PUBLIC
DTSTAMP:20260421T141734Z
END:VEVENT
END:VCALENDAR