BEGIN:VCALENDAR
VERSION:2.0
PRODID:JMS Hockey
X-PUBLISHED-TTL:P1W
BEGIN:VEVENT
UID:69e7ddc7cbc77
DTSTART:20100629T021000Z
SEQUENCE:0
TRANSP:OPAQUE
DTEND:20100629T034000Z
URL:http://jmshockey.com/games/1622
LOCATION:Doug Woog Arena (Wakota)
SUMMARY:Level 3 Game at Doug Woog Arena (Wakota)
CLASS:PUBLIC
DTSTAMP:20260421T152751Z
END:VEVENT
END:VCALENDAR