BEGIN:VCALENDAR
VERSION:2.0
PRODID:JMS Hockey
X-PUBLISHED-TTL:P1W
BEGIN:VEVENT
UID:69e774ee957ca
DTSTART:20260313T011500Z
SEQUENCE:0
TRANSP:OPAQUE
DTEND:20260313T024500Z
URL:http://jmshockey.com/games/16198
LOCATION:Apple Valley Hayes Park Arena
SUMMARY:Intermediate Game at Apple Valley Hayes Park Arena
CLASS:PUBLIC
DTSTAMP:20260421T080030Z
END:VEVENT
END:VCALENDAR