BEGIN:VCALENDAR
VERSION:2.0
PRODID:JMS Hockey
X-PUBLISHED-TTL:P1W
BEGIN:VEVENT
UID:69e7ea5a100b4
DTSTART:20260404T004500Z
SEQUENCE:0
TRANSP:OPAQUE
DTEND:20260404T021500Z
URL:http://jmshockey.com/games/16186
LOCATION:Breck Anderson Arena
SUMMARY:Lower Level Game at Breck Anderson Arena
CLASS:PUBLIC
DTSTAMP:20260421T162130Z
END:VEVENT
END:VCALENDAR