BEGIN:VCALENDAR
VERSION:2.0
PRODID:JMS Hockey
X-PUBLISHED-TTL:P1W
BEGIN:VEVENT
UID:69e7cd4ed8f92
DTSTART:20260514T031500Z
SEQUENCE:0
TRANSP:OPAQUE
DTEND:20260514T044500Z
URL:http://jmshockey.com/games/16163
LOCATION:Tartan Arena
SUMMARY:Lower Level Game at Tartan Arena
CLASS:PUBLIC
DTSTAMP:20260421T141734Z
END:VEVENT
END:VCALENDAR