BEGIN:VCALENDAR
VERSION:2.0
PRODID:JMS Hockey
X-PUBLISHED-TTL:P1W
BEGIN:VEVENT
UID:69e77934d350a
DTSTART:20260401T030000Z
SEQUENCE:0
TRANSP:OPAQUE
DTEND:20260401T043000Z
URL:http://jmshockey.com/games/16136
LOCATION:Maple Grove
SUMMARY:Intermediate Game at Maple Grove
CLASS:PUBLIC
DTSTAMP:20260421T081844Z
END:VEVENT
END:VCALENDAR