BEGIN:VCALENDAR
VERSION:2.0
PRODID:JMS Hockey
X-PUBLISHED-TTL:P1W
BEGIN:VEVENT
UID:69e7e32fc66f6
DTSTART:20100626T011500Z
SEQUENCE:0
TRANSP:OPAQUE
DTEND:20100626T024500Z
URL:http://jmshockey.com/games/1611
LOCATION:Richfield Ice Arena
SUMMARY:Level 3 Game at Richfield Ice Arena
CLASS:PUBLIC
DTSTAMP:20260421T155055Z
END:VEVENT
END:VCALENDAR